BEGIN:VCALENDAR
VERSION:2.0
PRODID:-//Tukios.com/
BEGIN:VEVENT
UID:eb730f16-e6e3-4652-8caa-b8bb65f8ac73@www.millercarlin.com
DTSTAMP:20260422T021928Z
DTSTART:20260423T170000Z
DTEND:20260423T173000Z
SUMMARY:Interment
DESCRIPTION:
URL:https://www.millercarlin.com/obituaries/florentine-meier
LOCATION:   Albany MN 56307
GEO:45.6299647;-94.5700048
END:VEVENT
END:VCALENDAR