BEGIN:VCALENDAR
VERSION:2.0
PRODID:-//Tukios.com/
BEGIN:VEVENT
UID:003ad51a-aede-41b0-abdb-523e9cac9a37@www.millercarlin.com
DTSTAMP:20260422T022203Z
DTSTART:20260423T160000Z
DTEND:20260423T170000Z
SUMMARY:Memorial Mass
DESCRIPTION:
URL:https://www.millercarlin.com/obituaries/florentine-meier
LOCATION: 151 2nd St. So  Albany MN 56307
GEO:45.6306518;-94.5657404
END:VEVENT
END:VCALENDAR