BEGIN:VCALENDAR
VERSION:2.0
PRODID:-//Tukios.com/
BEGIN:VEVENT
UID:09724b70-0ab2-49a7-9624-e5e558c98643@www.millercarlin.com
DTSTAMP:20260422T021927Z
DTSTART:20260423T150000Z
DTEND:20260423T160000Z
SUMMARY:Visitation
DESCRIPTION:
URL:https://www.millercarlin.com/obituaries/florentine-meier
LOCATION: 151 2nd St. So  Albany MN 56307
GEO:45.6306518;-94.5657404
END:VEVENT
END:VCALENDAR