BEGIN:VCALENDAR
VERSION:2.0
PRODID:-//Tukios.com/
BEGIN:VEVENT
UID:c7a0343f-286f-4139-85fe-603b44f66d1d@www.millercarlin.com
DTSTAMP:20260423T055305Z
DTSTART:20260427T150000Z
DTEND:20260427T160000Z
SUMMARY:Visitation
DESCRIPTION:
URL:https://www.millercarlin.com/obituaries/delores-voss
LOCATION: 311 River St  Holdingford MN 56340
GEO:45.7315976;-94.47187
END:VEVENT
END:VCALENDAR