BEGIN:VCALENDAR
VERSION:2.0
PRODID:-//Tukios.com/
BEGIN:VEVENT
UID:6b6a3242-be15-4240-a43d-7a382c8819e3@www.millercarlin.com
DTSTAMP:20260423T054653Z
DTSTART:20260426T190000Z
DTEND:20260426T220000Z
SUMMARY:Visitation Evening Prior
DESCRIPTION:
URL:https://www.millercarlin.com/obituaries/delores-voss
LOCATION: 631 Main Street  Holdingford MN 56340
GEO:45.7309272;-94.4759664
END:VEVENT
END:VCALENDAR