BEGIN:VCALENDAR
VERSION:2.0
PRODID:-//Tukios.com/
BEGIN:VEVENT
UID:36a63d4e-6397-4d97-96be-819c70ac320c@www.millercarlin.com
DTSTAMP:20260423T054602Z
DTSTART:20260427T160000Z
DTEND:20260427T170000Z
SUMMARY:Mass
DESCRIPTION:
URL:https://www.millercarlin.com/obituaries/delores-voss
LOCATION:Church of All Saints – St. Mary 311 River St  Holdingford MN 
	56340
GEO:45.7315976;-94.47187
END:VEVENT
END:VCALENDAR